BEGIN:VCALENDAR
VERSION:2.0
PRODID:-//Highwood Library - ECPv6.15.17.1//NONSGML v1.0//EN
CALSCALE:GREGORIAN
METHOD:PUBLISH
X-WR-CALNAME:Highwood Library
X-ORIGINAL-URL:https://highwoodlibrary.org
X-WR-CALDESC:Events for Highwood Library
REFRESH-INTERVAL;VALUE=DURATION:PT1H
X-Robots-Tag:noindex
X-PUBLISHED-TTL:PT1H
BEGIN:VTIMEZONE
TZID:America/Chicago
BEGIN:DAYLIGHT
TZOFFSETFROM:-0600
TZOFFSETTO:-0500
TZNAME:CDT
DTSTART:20210314T080000
END:DAYLIGHT
BEGIN:STANDARD
TZOFFSETFROM:-0500
TZOFFSETTO:-0600
TZNAME:CST
DTSTART:20211107T070000
END:STANDARD
BEGIN:DAYLIGHT
TZOFFSETFROM:-0600
TZOFFSETTO:-0500
TZNAME:CDT
DTSTART:20220313T080000
END:DAYLIGHT
BEGIN:STANDARD
TZOFFSETFROM:-0500
TZOFFSETTO:-0600
TZNAME:CST
DTSTART:20221106T070000
END:STANDARD
BEGIN:DAYLIGHT
TZOFFSETFROM:-0600
TZOFFSETTO:-0500
TZNAME:CDT
DTSTART:20230312T080000
END:DAYLIGHT
BEGIN:STANDARD
TZOFFSETFROM:-0500
TZOFFSETTO:-0600
TZNAME:CST
DTSTART:20231105T070000
END:STANDARD
BEGIN:DAYLIGHT
TZOFFSETFROM:-0600
TZOFFSETTO:-0500
TZNAME:CDT
DTSTART:20240310T080000
END:DAYLIGHT
BEGIN:STANDARD
TZOFFSETFROM:-0500
TZOFFSETTO:-0600
TZNAME:CST
DTSTART:20241103T070000
END:STANDARD
BEGIN:DAYLIGHT
TZOFFSETFROM:-0600
TZOFFSETTO:-0500
TZNAME:CDT
DTSTART:20250309T080000
END:DAYLIGHT
BEGIN:STANDARD
TZOFFSETFROM:-0500
TZOFFSETTO:-0600
TZNAME:CST
DTSTART:20251102T070000
END:STANDARD
BEGIN:DAYLIGHT
TZOFFSETFROM:-0600
TZOFFSETTO:-0500
TZNAME:CDT
DTSTART:20260308T080000
END:DAYLIGHT
BEGIN:STANDARD
TZOFFSETFROM:-0500
TZOFFSETTO:-0600
TZNAME:CST
DTSTART:20261101T070000
END:STANDARD
END:VTIMEZONE
BEGIN:VEVENT
DTSTART;TZID=America/Chicago:20250428T190000
DTEND;TZID=America/Chicago:20250428T210000
DTSTAMP:20260423T031742
CREATED:20240501T152518Z
LAST-MODIFIED:20240501T152518Z
UID:16808-1745866800-1745874000@highwoodlibrary.org
SUMMARY:Board Meeting
DESCRIPTION:
URL:https://highwoodlibrary.org/events/board-meeting-4/2025-04-28
LOCATION:Highwood Library & Community Center\, 102 Highwood Avenue\, Highwood\, IL\, 60040\, United States
ORGANIZER;CN="Board of Trustees":MAILTO:director@highwoodlibrary.org
END:VEVENT
BEGIN:VEVENT
DTSTART;TZID=America/Chicago:20250428T180000
DTEND;TZID=America/Chicago:20250428T190000
DTSTAMP:20260423T031742
CREATED:20250424T213910Z
LAST-MODIFIED:20250424T213910Z
UID:20915-1745863200-1745866800@highwoodlibrary.org
SUMMARY:Finance Committee Meeting
DESCRIPTION:
URL:https://highwoodlibrary.org/events/finance-committee-meeting-12
LOCATION:Highwood Library & Community Center\, 102 Highwood Avenue\, Highwood\, IL\, 60040\, United States
ORGANIZER;CN="Board of Trustees":MAILTO:director@highwoodlibrary.org
END:VEVENT
BEGIN:VEVENT
DTSTART;TZID=America/Chicago:20250403T090000
DTEND;TZID=America/Chicago:20250403T100000
DTSTAMP:20260423T031742
CREATED:20250401T235834Z
LAST-MODIFIED:20250401T235834Z
UID:20832-1743670800-1743674400@highwoodlibrary.org
SUMMARY:Policy Committee Meeting
DESCRIPTION:HPL_PolicyCommAgenda_03April2025
URL:https://highwoodlibrary.org/events/policy-committee-meeting-5
LOCATION:Highwood Library & Community Center\, 102 Highwood Avenue\, Highwood\, IL\, 60040\, United States
ORGANIZER;CN="Board of Trustees":MAILTO:director@highwoodlibrary.org
END:VEVENT
BEGIN:VEVENT
DTSTART;TZID=America/Chicago:20250317T190000
DTEND;TZID=America/Chicago:20250317T210000
DTSTAMP:20260423T031742
CREATED:20240501T152518Z
LAST-MODIFIED:20240501T152518Z
UID:16807-1742238000-1742245200@highwoodlibrary.org
SUMMARY:Board Meeting
DESCRIPTION:
URL:https://highwoodlibrary.org/events/board-meeting-4/2025-03-17
LOCATION:Highwood Library & Community Center\, 102 Highwood Avenue\, Highwood\, IL\, 60040\, United States
ORGANIZER;CN="Board of Trustees":MAILTO:director@highwoodlibrary.org
END:VEVENT
BEGIN:VEVENT
DTSTART;TZID=America/Chicago:20250224T190000
DTEND;TZID=America/Chicago:20250224T210000
DTSTAMP:20260423T031742
CREATED:20240501T152518Z
LAST-MODIFIED:20240501T152518Z
UID:16806-1740423600-1740430800@highwoodlibrary.org
SUMMARY:Board Meeting
DESCRIPTION:
URL:https://highwoodlibrary.org/events/board-meeting-4/2025-02-24
LOCATION:Highwood Library & Community Center\, 102 Highwood Avenue\, Highwood\, IL\, 60040\, United States
ORGANIZER;CN="Board of Trustees":MAILTO:director@highwoodlibrary.org
END:VEVENT
BEGIN:VEVENT
DTSTART;TZID=America/Chicago:20250224T183000
DTEND;TZID=America/Chicago:20250224T193000
DTSTAMP:20260423T031742
CREATED:20250220T025032Z
LAST-MODIFIED:20250220T025511Z
UID:20263-1740421800-1740425400@highwoodlibrary.org
SUMMARY:Finance Committee Meeting
DESCRIPTION:Agenda
URL:https://highwoodlibrary.org/events/finance-committee-meeting-11
LOCATION:Highwood Library & Community Center\, 102 Highwood Avenue\, Highwood\, IL\, 60040\, United States
ORGANIZER;CN="Board of Trustees":MAILTO:director@highwoodlibrary.org
END:VEVENT
BEGIN:VEVENT
DTSTART;TZID=America/Chicago:20250127T190000
DTEND;TZID=America/Chicago:20250127T210000
DTSTAMP:20260423T031742
CREATED:20240501T152518Z
LAST-MODIFIED:20240501T152518Z
UID:16805-1738004400-1738011600@highwoodlibrary.org
SUMMARY:Board Meeting
DESCRIPTION:
URL:https://highwoodlibrary.org/events/board-meeting-4/2025-01-27
LOCATION:Highwood Library & Community Center\, 102 Highwood Avenue\, Highwood\, IL\, 60040\, United States
ORGANIZER;CN="Board of Trustees":MAILTO:director@highwoodlibrary.org
END:VEVENT
BEGIN:VEVENT
DTSTART;TZID=America/Chicago:20241216T190000
DTEND;TZID=America/Chicago:20241216T210000
DTSTAMP:20260423T031742
CREATED:20240501T152518Z
LAST-MODIFIED:20240501T152518Z
UID:16804-1734375600-1734382800@highwoodlibrary.org
SUMMARY:Board Meeting
DESCRIPTION:
URL:https://highwoodlibrary.org/events/board-meeting-4/2024-12-16
LOCATION:Highwood Library & Community Center\, 102 Highwood Avenue\, Highwood\, IL\, 60040\, United States
ORGANIZER;CN="Board of Trustees":MAILTO:director@highwoodlibrary.org
END:VEVENT
BEGIN:VEVENT
DTSTART;TZID=America/Chicago:20241125T190000
DTEND;TZID=America/Chicago:20241125T210000
DTSTAMP:20260423T031742
CREATED:20240501T152518Z
LAST-MODIFIED:20240501T152518Z
UID:16803-1732561200-1732568400@highwoodlibrary.org
SUMMARY:Board Meeting
DESCRIPTION:
URL:https://highwoodlibrary.org/events/board-meeting-4/2024-11-25
LOCATION:Highwood Library & Community Center\, 102 Highwood Avenue\, Highwood\, IL\, 60040\, United States
ORGANIZER;CN="Board of Trustees":MAILTO:director@highwoodlibrary.org
END:VEVENT
BEGIN:VEVENT
DTSTART;TZID=America/Chicago:20241028T190000
DTEND;TZID=America/Chicago:20241028T210000
DTSTAMP:20260423T031742
CREATED:20240501T152518Z
LAST-MODIFIED:20240501T152518Z
UID:16802-1730142000-1730149200@highwoodlibrary.org
SUMMARY:Board Meeting
DESCRIPTION:
URL:https://highwoodlibrary.org/events/board-meeting-4/2024-10-28
LOCATION:Highwood Library & Community Center\, 102 Highwood Avenue\, Highwood\, IL\, 60040\, United States
ORGANIZER;CN="Board of Trustees":MAILTO:director@highwoodlibrary.org
END:VEVENT
BEGIN:VEVENT
DTSTART;TZID=America/Chicago:20241014T183000
DTEND;TZID=America/Chicago:20241014T200000
DTSTAMP:20260423T031742
CREATED:20241009T215748Z
LAST-MODIFIED:20241009T220254Z
UID:18511-1728930600-1728936000@highwoodlibrary.org
SUMMARY:Special Board Meeting
DESCRIPTION:
URL:https://highwoodlibrary.org/events/special-board-meeting
LOCATION:Highwood Library & Community Center\, 102 Highwood Avenue\, Highwood\, IL\, 60040\, United States
ORGANIZER;CN="Board of Trustees":MAILTO:director@highwoodlibrary.org
END:VEVENT
BEGIN:VEVENT
DTSTART;TZID=America/Chicago:20240930T190000
DTEND;TZID=America/Chicago:20240930T210000
DTSTAMP:20260423T031742
CREATED:20240501T152518Z
LAST-MODIFIED:20240912T180829Z
UID:16801-1727722800-1727730000@highwoodlibrary.org
SUMMARY:Board Meeting
DESCRIPTION:
URL:https://highwoodlibrary.org/events/board-meeting-4-2024-09-23
LOCATION:Highwood Library & Community Center\, 102 Highwood Avenue\, Highwood\, IL\, 60040\, United States
ORGANIZER;CN="Board of Trustees":MAILTO:director@highwoodlibrary.org
END:VEVENT
BEGIN:VEVENT
DTSTART;TZID=America/Chicago:20240923T190000
DTEND;TZID=America/Chicago:20240923T210000
DTSTAMP:20260423T031742
CREATED:20240909T204453Z
LAST-MODIFIED:20240909T204453Z
UID:18095-1727118000-1727125200@highwoodlibrary.org
SUMMARY:Library Board Meeting
DESCRIPTION:
URL:https://highwoodlibrary.org/events/library-board-meeting
LOCATION:Highwood Library & Community Center\, 102 Highwood Avenue\, Highwood\, IL\, 60040\, United States
ORGANIZER;CN="Board of Trustees":MAILTO:director@highwoodlibrary.org
END:VEVENT
BEGIN:VEVENT
DTSTART;TZID=America/Chicago:20240826T190000
DTEND;TZID=America/Chicago:20240826T210000
DTSTAMP:20260423T031742
CREATED:20240501T152518Z
LAST-MODIFIED:20240501T152518Z
UID:16800-1724698800-1724706000@highwoodlibrary.org
SUMMARY:Board Meeting
DESCRIPTION:
URL:https://highwoodlibrary.org/events/board-meeting-4/2024-08-26
LOCATION:Highwood Library & Community Center\, 102 Highwood Avenue\, Highwood\, IL\, 60040\, United States
ORGANIZER;CN="Board of Trustees":MAILTO:director@highwoodlibrary.org
END:VEVENT
BEGIN:VEVENT
DTSTART;TZID=America/Chicago:20240722T190000
DTEND;TZID=America/Chicago:20240722T210000
DTSTAMP:20260423T031742
CREATED:20240501T152518Z
LAST-MODIFIED:20240501T152518Z
UID:16799-1721674800-1721682000@highwoodlibrary.org
SUMMARY:Board Meeting
DESCRIPTION:
URL:https://highwoodlibrary.org/events/board-meeting-4/2024-07-22
LOCATION:Highwood Library & Community Center\, 102 Highwood Avenue\, Highwood\, IL\, 60040\, United States
ORGANIZER;CN="Board of Trustees":MAILTO:director@highwoodlibrary.org
END:VEVENT
BEGIN:VEVENT
DTSTART;TZID=America/Chicago:20240624T190000
DTEND;TZID=America/Chicago:20240624T210000
DTSTAMP:20260423T031742
CREATED:20240501T152518Z
LAST-MODIFIED:20240501T152518Z
UID:16797-1719255600-1719262800@highwoodlibrary.org
SUMMARY:Board Meeting
DESCRIPTION:
URL:https://highwoodlibrary.org/events/board-meeting-4
LOCATION:Highwood Library & Community Center\, 102 Highwood Avenue\, Highwood\, IL\, 60040\, United States
ORGANIZER;CN="Board of Trustees":MAILTO:director@highwoodlibrary.org
END:VEVENT
BEGIN:VEVENT
DTSTART;TZID=America/Chicago:20240617T180000
DTEND;TZID=America/Chicago:20240617T190000
DTSTAMP:20260423T031742
CREATED:20240614T232310Z
LAST-MODIFIED:20240614T232424Z
UID:17255-1718647200-1718650800@highwoodlibrary.org
SUMMARY:Finance Committee Meeting
DESCRIPTION:Meeting Agenda
URL:https://highwoodlibrary.org/events/finance-committee-meeting-9
LOCATION:Highwood Library & Community Center\, 102 Highwood Avenue\, Highwood\, IL\, 60040\, United States
ORGANIZER;CN="Board of Trustees":MAILTO:director@highwoodlibrary.org
END:VEVENT
BEGIN:VEVENT
DTSTART;TZID=America/Chicago:20240528T190000
DTEND;TZID=America/Chicago:20240528T210000
DTSTAMP:20260423T031742
CREATED:20210501T214221Z
LAST-MODIFIED:20240501T152555Z
UID:6975-1716922800-1716930000@highwoodlibrary.org
SUMMARY:Annual Board Meeting
DESCRIPTION:
URL:https://highwoodlibrary.org/events/board-meeting-2023-12-25-2024-05-27
LOCATION:Highwood Library & Community Center\, 102 Highwood Avenue\, Highwood\, IL\, 60040\, United States
ORGANIZER;CN="Board of Trustees":MAILTO:director@highwoodlibrary.org
END:VEVENT
BEGIN:VEVENT
DTSTART;TZID=America/Chicago:20240422T190000
DTEND;TZID=America/Chicago:20240422T210000
DTSTAMP:20260423T031742
CREATED:20210501T214221Z
LAST-MODIFIED:20240501T151225Z
UID:6707-1713812400-1713819600@highwoodlibrary.org
SUMMARY:Board Meeting
DESCRIPTION:
URL:https://highwoodlibrary.org/events/board-meeting-2023-12-25-2024-04-29
LOCATION:Highwood Library & Community Center\, 102 Highwood Avenue\, Highwood\, IL\, 60040\, United States
ORGANIZER;CN="Board of Trustees":MAILTO:director@highwoodlibrary.org
END:VEVENT
BEGIN:VEVENT
DTSTART;TZID=America/Chicago:20240207T090000
DTEND;TZID=America/Chicago:20240207T100000
DTSTAMP:20260423T031742
CREATED:20240206T003545Z
LAST-MODIFIED:20240206T004024Z
UID:15837-1707296400-1707300000@highwoodlibrary.org
SUMMARY:Highwood Public Library Policy Meeting
DESCRIPTION:Meeting Agenda
URL:https://highwoodlibrary.org/events/highwood-public-library-policy-meeting
LOCATION:Highwood Library & Community Center\, 102 Highwood Avenue\, Highwood\, IL\, 60040\, United States
ORGANIZER;CN="Board of Trustees":MAILTO:director@highwoodlibrary.org
END:VEVENT
BEGIN:VEVENT
DTSTART;TZID=America/Chicago:20231218T190000
DTEND;TZID=America/Chicago:20231218T210000
DTSTAMP:20260423T031742
CREATED:20210501T214221Z
LAST-MODIFIED:20240501T151706Z
UID:5098-1702926000-1702933200@highwoodlibrary.org
SUMMARY:Board Meeting
DESCRIPTION:
URL:https://highwoodlibrary.org/events/board-meeting-2023-12-25/2023-12-18
LOCATION:Highwood Library & Community Center\, 102 Highwood Avenue\, Highwood\, IL\, 60040\, United States
ORGANIZER;CN="Board of Trustees":MAILTO:director@highwoodlibrary.org
END:VEVENT
BEGIN:VEVENT
DTSTART;TZID=America/Chicago:20231023T190000
DTEND;TZID=America/Chicago:20231023T210000
DTSTAMP:20260423T031742
CREATED:20210501T214221Z
LAST-MODIFIED:20231012T204940Z
UID:4813-1698087600-1698094800@highwoodlibrary.org
SUMMARY:Board Meeting
DESCRIPTION:
URL:https://highwoodlibrary.org/events/board-meeting-2021-11-29-2023-10-30
LOCATION:Highwood Library & Community Center\, 102 Highwood Avenue\, Highwood\, IL\, 60040\, United States
ORGANIZER;CN="Board of Trustees":MAILTO:director@highwoodlibrary.org
END:VEVENT
BEGIN:VEVENT
DTSTART;TZID=America/Chicago:20230828T190000
DTEND;TZID=America/Chicago:20230828T210000
DTSTAMP:20260423T031742
CREATED:20210501T214221Z
LAST-MODIFIED:20230826T170814Z
UID:4237-1693249200-1693256400@highwoodlibrary.org
SUMMARY:Board Meeting
DESCRIPTION:
URL:https://highwoodlibrary.org/events/board-meeting-2021-11-29-2023-08-28
LOCATION:Highwood City Hall\, 17 Highwood Ave\, Highwood\, IL\, 60040
ORGANIZER;CN="Board of Trustees":MAILTO:director@highwoodlibrary.org
END:VEVENT
BEGIN:VEVENT
DTSTART;TZID=America/Chicago:20230727T173000
DTEND;TZID=America/Chicago:20230727T183000
DTSTAMP:20260423T031742
CREATED:20230725T213316Z
LAST-MODIFIED:20230725T213914Z
UID:13758-1690479000-1690482600@highwoodlibrary.org
SUMMARY:Board of Trustees Special Meeting
DESCRIPTION:Highwood Public Library Board of Trustees Special Meeting
URL:https://highwoodlibrary.org/events/board-of-trustees-special-meeting-4
LOCATION:Highwood Library & Community Center\, 102 Highwood Avenue\, Highwood\, IL\, 60040\, United States
ORGANIZER;CN="Board of Trustees":MAILTO:director@highwoodlibrary.org
END:VEVENT
BEGIN:VEVENT
DTSTART;TZID=America/Chicago:20230330T190000
DTEND;TZID=America/Chicago:20230330T210000
DTSTAMP:20260423T031742
CREATED:20210501T214221Z
LAST-MODIFIED:20230328T220441Z
UID:2473-1680202800-1680210000@highwoodlibrary.org
SUMMARY:Board Meeting
DESCRIPTION:
URL:https://highwoodlibrary.org/events/board-meeting-2021-11-29-2023-03-27
LOCATION:Highwood City Hall\, 17 Highwood Ave\, Highwood\, IL\, 60040
ORGANIZER;CN="Board of Trustees":MAILTO:director@highwoodlibrary.org
END:VEVENT
BEGIN:VEVENT
DTSTART;TZID=America/Chicago:20230123T190000
DTEND;TZID=America/Chicago:20230123T210000
DTSTAMP:20260423T031742
CREATED:20221217T081848Z
LAST-MODIFIED:20221217T081848Z
UID:10796-1674500400-1674507600@highwoodlibrary.org
SUMMARY:Board Meeting
DESCRIPTION:
URL:https://highwoodlibrary.org/events/board-meeting-3
LOCATION:Highwood Library & Community Center\, 102 Highwood Avenue\, Highwood\, IL\, 60040\, United States
ORGANIZER;CN="Board of Trustees":MAILTO:director@highwoodlibrary.org
END:VEVENT
BEGIN:VEVENT
DTSTART;TZID=America/Chicago:20221219T180000
DTEND;TZID=America/Chicago:20221219T200000
DTSTAMP:20260423T031742
CREATED:20210501T214221Z
LAST-MODIFIED:20221217T081008Z
UID:2471-1671472800-1671480000@highwoodlibrary.org
SUMMARY:Board Meeting
DESCRIPTION:
URL:https://highwoodlibrary.org/events/board-meeting-2021-11-29-2023-01-30
LOCATION:Highwood City Hall\, 17 Highwood Ave\, Highwood\, IL\, 60040
ORGANIZER;CN="Board of Trustees":MAILTO:director@highwoodlibrary.org
END:VEVENT
BEGIN:VEVENT
DTSTART;TZID=America/Chicago:20221024T190000
DTEND;TZID=America/Chicago:20221024T210000
DTSTAMP:20260423T031742
CREATED:20210501T214221Z
LAST-MODIFIED:20211119T024028Z
UID:2468-1666638000-1666645200@highwoodlibrary.org
SUMMARY:Board Meeting
DESCRIPTION:
URL:https://highwoodlibrary.org/events/board-meeting-2021-11-29-2022-10-31
LOCATION:Highwood Library & Community Center\, 102 Highwood Avenue\, Highwood\, IL\, 60040\, United States
ORGANIZER;CN="Board of Trustees":MAILTO:director@highwoodlibrary.org
END:VEVENT
BEGIN:VEVENT
DTSTART;TZID=America/Chicago:20220822T190000
DTEND;TZID=America/Chicago:20220822T210000
DTSTAMP:20260423T031742
CREATED:20210501T214221Z
LAST-MODIFIED:20211119T023918Z
UID:2466-1661194800-1661202000@highwoodlibrary.org
SUMMARY:Board Meeting
DESCRIPTION:
URL:https://highwoodlibrary.org/events/board-meeting-2021-11-29-2022-08-29
LOCATION:Highwood Library & Community Center\, 102 Highwood Avenue\, Highwood\, IL\, 60040\, United States
ORGANIZER;CN="Board of Trustees":MAILTO:director@highwoodlibrary.org
END:VEVENT
BEGIN:VEVENT
DTSTART;TZID=America/Chicago:20220523T190000
DTEND;TZID=America/Chicago:20220523T210000
DTSTAMP:20260423T031742
CREATED:20210501T214221Z
LAST-MODIFIED:20211119T023739Z
UID:2463-1653332400-1653339600@highwoodlibrary.org
SUMMARY:Board Meeting
DESCRIPTION:
URL:https://highwoodlibrary.org/events/board-meeting-2021-11-29-2022-05-30
LOCATION:Highwood Library & Community Center\, 102 Highwood Avenue\, Highwood\, IL\, 60040\, United States
ORGANIZER;CN="Board of Trustees":MAILTO:director@highwoodlibrary.org
END:VEVENT
END:VCALENDAR